Workbook
Name _GoBack: 'Enter Points'!$A$177
Name KORSum: SumTotals!$A$7:$E$247
Name TotalMoney: [1]DataEntry!$AY$8:$BD$238

Sheet Print Standings
C1: Manitou Ridge Men's Club | I1: THIS TAB IS FOR PRINTING, IT'S READY TO GO, JUST HIT THE PRINT BUTTON
C2: King of the Ridge Standings | I2: DO NOT ENTER OR CHANGE ANYTHING ON THIS TAB!!!!!
C3: =NOW() -> 45182.38
C5: Top 19 + ties qualify
D6: Tourney | E6: Sweeps | F6: Total
B7: DC | C7: ='Enter Points'!A8 -> Tomaszewski, Jon | D7: ='Enter Points'!P8 -> 21 | E7: ='Enter Points'!Z8 -> 2 | F7: =D7+E7 -> 23 | I7: THIS TAB IS FOR PRINTING, IT'S READY TO GO, JUST HIT THE PRINT BUTTON
A8: 1 | B8: =RANK(F8,$F$8:$F$207,) -> 1 | C8: =VLOOKUP(A8,KORSum,2,0) -> Hartenberg, Bryan | D8: =VLOOKUP(A8,KORSum,3,0) -> 86 | E8: =VLOOKUP(A8,KORSum,4,0) -> 12 | F8: =VLOOKUP(A8,KORSum,5,0) -> 98 | I8: DO NOT ENTER OR CHANGE ANYTHING ON THIS TAB!!!!!
A9: 2 | B9: =RANK(F9,$F$8:$F$207,) -> 2 | C9: =VLOOKUP(A9,KORSum,2,0) -> Swenson, Gary | D9: =VLOOKUP(A9,KORSum,3,0) -> 79 | E9: =VLOOKUP(A9,KORSum,4,0) -> 12 | F9: =VLOOKUP(A9,KORSum,5,0) -> 91
A10: 3 | B10: =RANK(F10,$F$8:$F$207,) -> 3 | C10: =VLOOKUP(A10,KORSum,2,0) -> Johnson, Bones | D10: =VLOOKUP(A10,KORSum,3,0) -> 78 | E10: =VLOOKUP(A10,KORSum,4,0) -> 10 | F10: =VLOOKUP(A10,KORSum,5,0) -> 88
A11: 4 | B11: =RANK(F11,$F$8:$F$207,) -> 4 | C11: =VLOOKUP(A11,KORSum,2,0) -> Campion, Donny | D11: =VLOOKUP(A11,KORSum,3,0) -> 75 | E11: =VLOOKUP(A11,KORSum,4,0) -> 12 | F11: =VLOOKUP(A11,KORSum,5,0) -> 87
A12: 5 | B12: =RANK(F12,$F$8:$F$207,) -> 4 | C12: =VLOOKUP(A12,KORSum,2,0) -> Harrison, David | D12: =VLOOKUP(A12,KORSum,3,0) -> 75 | E12: =VLOOKUP(A12,KORSum,4,0) -> 12 | F12: =VLOOKUP(A12,KORSum,5,0) -> 87
A13: 6 | B13: =RANK(F13,$F$8:$F$207,) -> 4 | C13: =VLOOKUP(A13,KORSum,2,0) -> Stepaniak, Cory | D13: =VLOOKUP(A13,KORSum,3,0) -> 85 | E13: =VLOOKUP(A13,KORSum,4,0) -> 2 | F13: =VLOOKUP(A13,KORSum,5,0) -> 87 | I13: THIS TAB IS FOR PRINTING, IT'S READY TO GO, JUST HIT THE PRINT BUTTON
A14: 7 | B14: =RANK(F14,$F$8:$F$207,) -> 7 | C14: =VLOOKUP(A14,KORSum,2,0) -> Butkovich, George | D14: =VLOOKUP(A14,KORSum,3,0) -> 80 | E14: =VLOOKUP(A14,KORSum,4,0) -> 6 | F14: =VLOOKUP(A14,KORSum,5,0) -> 86 | I14: DO NOT ENTER OR CHANGE ANYTHING ON THIS TAB!!!!!
A15: 8 | B15: =RANK(F15,$F$8:$F$207,) -> 8 | C15: =VLOOKUP(A15,KORSum,2,0) -> Moore, RT | D15: =VLOOKUP(A15,KORSum,3,0) -> 71 | E15: =VLOOKUP(A15,KORSum,4,0) -> 12 | F15: =VLOOKUP(A15,KORSum,5,0) -> 83
A16: 9 | B16: =RANK(F16,$F$8:$F$207,) -> 9 | C16: =VLOOKUP(A16,KORSum,2,0) -> St. Marie, Aaron | D16: =VLOOKUP(A16,KORSum,3,0) -> 67 | E16: =VLOOKUP(A16,KORSum,4,0) -> 14 | F16: =VLOOKUP(A16,KORSum,5,0) -> 81
A17: 10 | B17: =RANK(F17,$F$8:$F$207,) -> 10 | C17: =VLOOKUP(A17,KORSum,2,0) -> Podobinski, Jerry | D17: =VLOOKUP(A17,KORSum,3,0) -> 69 | E17: =VLOOKUP(A17,KORSum,4,0) -> 10 | F17: =VLOOKUP(A17,KORSum,5,0) -> 79
A18: 11 | B18: =RANK(F18,$F$8:$F$207,) -> 11 | C18: =VLOOKUP(A18,KORSum,2,0) -> Bailey, Mike | D18: =VLOOKUP(A18,KORSum,3,0) -> 74 | E18: =VLOOKUP(A18,KORSum,4,0) -> 4 | F18: =VLOOKUP(A18,KORSum,5,0) -> 78
A19: 12 | B19: =RANK(F19,$F$8:$F$207,) -> 11 | C19: =VLOOKUP(A19,KORSum,2,0) -> Tomaszewsk, Steve | D19: =VLOOKUP(A19,KORSum,3,0) -> 70 | E19: =VLOOKUP(A19,KORSum,4,0) -> 8 | F19: =VLOOKUP(A19,KORSum,5,0) -> 78 | I19: THIS TAB IS FOR PRINTING, IT'S READY TO GO, JUST HIT THE PRINT BUTTON
A20: 13 | B20: =RANK(F20,$F$8:$F$207,) -> 13 | C20: =VLOOKUP(A20,KORSum,2,0) -> Jamnik, Joel | D20: =VLOOKUP(A20,KORSum,3,0) -> 60 | E20: =VLOOKUP(A20,KORSum,4,0) -> 14 | F20: =VLOOKUP(A20,KORSum,5,0) -> 74 | I20: DO NOT ENTER OR CHANGE ANYTHING ON THIS TAB!!!!!
A21: 14 | B21: =RANK(F21,$F$8:$F$207,) -> 14 | C21: =VLOOKUP(A21,KORSum,2,0) -> Mroszak, Jim | D21: =VLOOKUP(A21,KORSum,3,0) -> 59 | E21: =VLOOKUP(A21,KORSum,4,0) -> 14 | F21: =VLOOKUP(A21,KORSum,5,0) -> 73
A22: 15 | B22: =RANK(F22,$F$8:$F$207,) -> 15 | C22: =VLOOKUP(A22,KORSum,2,0) -> Clemings, BJ | D22: =VLOOKUP(A22,KORSum,3,0) -> 56 | E22: =VLOOKUP(A22,KORSum,4,0) -> 14 | F22: =VLOOKUP(A22,KORSum,5,0) -> 70
A23: 16 | B23: =RANK(F23,$F$8:$F$207,) -> 16 | C23: =VLOOKUP(A23,KORSum,2,0) -> Frascone, Kevin | D23: =VLOOKUP(A23,KORSum,3,0) -> 57 | E23: =VLOOKUP(A23,KORSum,4,0) -> 12 | F23: =VLOOKUP(A23,KORSum,5,0) -> 69
A24: 17 | B24: =RANK(F24,$F$8:$F$207,) -> 17 | C24: =VLOOKUP(A24,KORSum,2,0) -> Hoye, Bob | D24: =VLOOKUP(A24,KORSum,3,0) -> 54 | E24: =VLOOKUP(A24,KORSum,4,0) -> 14 | F24: =VLOOKUP(A24,KORSum,5,0) -> 68
A25: 18 | B25: =RANK(F25,$F$8:$F$207,) -> 18 | C25: =VLOOKUP(A25,KORSum,2,0) -> Beier, Bob | D25: =VLOOKUP(A25,KORSum,3,0) -> 57 | E25: =VLOOKUP(A25,KORSum,4,0) -> 10 | F25: =VLOOKUP(A25,KORSum,5,0) -> 67 | I25: THIS TAB IS FOR PRINTING, IT'S READY TO GO, JUST HIT THE PRINT BUTTON
A26: 19 | B26: =RANK(F26,$F$8:$F$207,) -> 19 | C26: =VLOOKUP(A26,KORSum,2,0) -> Kunz, George | D26: =VLOOKUP(A26,KORSum,3,0) -> 52 | E26: =VLOOKUP(A26,KORSum,4,0) -> 14 | F26: =VLOOKUP(A26,KORSum,5,0) -> 66 | I26: DO NOT ENTER OR CHANGE ANYTHING ON THIS TAB!!!!!
A27: 20 | B27: =RANK(F27,$F$8:$F$207,) -> 19 | C27: =VLOOKUP(A27,KORSum,2,0) -> Timm, Brent | D27: =VLOOKUP(A27,KORSum,3,0) -> 56 | E27: =VLOOKUP(A27,KORSum,4,0) -> 10 | F27: =VLOOKUP(A27,KORSum,5,0) -> 66
A28: 21 | B28: =RANK(F28,$F$8:$F$207,) -> 21 | C28: =VLOOKUP(A28,KORSum,2,0) -> Conrad, Max | D28: =VLOOKUP(A28,KORSum,3,0) -> 59 | E28: =VLOOKUP(A28,KORSum,4,0) -> 6 | F28: =VLOOKUP(A28,KORSum,5,0) -> 65
A29: 22 | B29: =RANK(F29,$F$8:$F$207,) -> 22 | C29: =VLOOKUP(A29,KORSum,2,0) -> Hanson, Chuck | D29: =VLOOKUP(A29,KORSum,3,0) -> 50 | E29: =VLOOKUP(A29,KORSum,4,0) -> 14 | F29: =VLOOKUP(A29,KORSum,5,0) -> 64
A30: 23 | B30: =RANK(F30,$F$8:$F$207,) -> 22 | C30: =VLOOKUP(A30,KORSum,2,0) -> Russell, Greg | D30: =VLOOKUP(A30,KORSum,3,0) -> 60 | E30: =VLOOKUP(A30,KORSum,4,0) -> 4 | F30: =VLOOKUP(A30,KORSum,5,0) -> 64
A31: 24 | B31: =RANK(F31,$F$8:$F$207,) -> 24 | C31: =VLOOKUP(A31,KORSum,2,0) -> Lindemoen, Ron | D31: =VLOOKUP(A31,KORSum,3,0) -> 52 | E31: =VLOOKUP(A31,KORSum,4,0) -> 10 | F31: =VLOOKUP(A31,KORSum,5,0) -> 62 | I31: THIS TAB IS FOR PRINTING, IT'S READY TO GO, JUST HIT THE PRINT BUTTON
A32: 25 | B32: =RANK(F32,$F$8:$F$207,) -> 24 | C32: =VLOOKUP(A32,KORSum,2,0) -> Yorkovich, Ben | D32: =VLOOKUP(A32,KORSum,3,0) -> 56 | E32: =VLOOKUP(A32,KORSum,4,0) -> 6 | F32: =VLOOKUP(A32,KORSum,5,0) -> 62 | I32: DO NOT ENTER OR CHANGE ANYTHING ON THIS TAB!!!!!
A33: 26 | B33: =RANK(F33,$F$8:$F$207,) -> 26 | C33: =VLOOKUP(A33,KORSum,2,0) -> Lindemoen, Mike | D33: =VLOOKUP(A33,KORSum,3,0) -> 51 | E33: =VLOOKUP(A33,KORSum,4,0) -> 10 | F33: =VLOOKUP(A33,KORSum,5,0) -> 61
A34: 27 | B34: =RANK(F34,$F$8:$F$207,) -> 27 | C34: =VLOOKUP(A34,KORSum,2,0) -> Beaurline, CJ | D34: =VLOOKUP(A34,KORSum,3,0) -> 46 | E34: =VLOOKUP(A34,KORSum,4,0) -> 14 | F34: =VLOOKUP(A34,KORSum,5,0) -> 60
A35: 28 | B35: =RANK(F35,$F$8:$F$207,) -> 27 | C35: =VLOOKUP(A35,KORSum,2,0) -> Clemings, Bob | D35: =VLOOKUP(A35,KORSum,3,0) -> 56 | E35: =VLOOKUP(A35,KORSum,4,0) -> 4 | F35: =VLOOKUP(A35,KORSum,5,0) -> 60
A36: 29 | B36: =RANK(F36,$F$8:$F$207,) -> 27 | C36: =VLOOKUP(A36,KORSum,2,0) -> Hubbard, Dave | D36: =VLOOKUP(A36,KORSum,3,0) -> 50 | E36: =VLOOKUP(A36,KORSum,4,0) -> 10 | F36: =VLOOKUP(A36,KORSum,5,0) -> 60
A37: 30 | B37: =RANK(F37,$F$8:$F$207,) -> 30 | C37: =VLOOKUP(A37,KORSum,2,0) -> Hanna, Bob | D37: =VLOOKUP(A37,KORSum,3,0) -> 47 | E37: =VLOOKUP(A37,KORSum,4,0) -> 12 | F37: =VLOOKUP(A37,KORSum,5,0) -> 59
A38: 31 | B38: =RANK(F38,$F$8:$F$207,) -> 30 | C38: =VLOOKUP(A38,KORSum,2,0) -> O'Keefe, Dennis | D38: =VLOOKUP(A38,KORSum,3,0) -> 51 | E38: =VLOOKUP(A38,KORSum,4,0) -> 8 | F38: =VLOOKUP(A38,KORSum,5,0) -> 59
A39: 32 | B39: =RANK(F39,$F$8:$F$207,) -> 30 | C39: =VLOOKUP(A39,KORSum,2,0) -> Young, Mike | D39: =VLOOKUP(A39,KORSum,3,0) -> 51 | E39: =VLOOKUP(A39,KORSum,4,0) -> 8 | F39: =VLOOKUP(A39,KORSum,5,0) -> 59
A40: 33 | B40: =RANK(F40,$F$8:$F$207,) -> 33 | C40: =VLOOKUP(A40,KORSum,2,0) -> Martinucci, David | D40: =VLOOKUP(A40,KORSum,3,0) -> 48 | E40: =VLOOKUP(A40,KORSum,4,0) -> 10 | F40: =VLOOKUP(A40,KORSum,5,0) -> 58
A41: 34 | B41: =RANK(F41,$F$8:$F$207,) -> 33 | C41: =VLOOKUP(A41,KORSum,2,0) -> Rhode, Jason | D41: =VLOOKUP(A41,KORSum,3,0) -> 48 | E41: =VLOOKUP(A41,KORSum,4,0) -> 10 | F41: =VLOOKUP(A41,KORSum,5,0) -> 58
A42: 35 | B42: =RANK(F42,$F$8:$F$207,) -> 33 | C42: =VLOOKUP(A42,KORSum,2,0) -> Rhodes, Justin | D42: =VLOOKUP(A42,KORSum,3,0) -> 52 | E42: =VLOOKUP(A42,KORSum,4,0) -> 6 | F42: =VLOOKUP(A42,KORSum,5,0) -> 58
A43: 36 | B43: =RANK(F43,$F$8:$F$207,) -> 33 | C43: =VLOOKUP(A43,KORSum,2,0) -> Stuhr, Colin | D43: =VLOOKUP(A43,KORSum,3,0) -> 56 | E43: =VLOOKUP(A43,KORSum,4,0) -> 2 | F43: =VLOOKUP(A43,KORSum,5,0) -> 58
A44: 37 | B44: =RANK(F44,$F$8:$F$207,) -> 37 | C44: =VLOOKUP(A44,KORSum,2,0) -> Heurung, Bob | D44: =VLOOKUP(A44,KORSum,3,0) -> 43 | E44: =VLOOKUP(A44,KORSum,4,0) -> 14 | F44: =VLOOKUP(A44,KORSum,5,0) -> 57
... A207: 200 | B207: =RANK(F207,$F$8:$F$207,) -> 142 | C207: =VLOOKUP(A207,KORSum,2,0) -> 0 | D207: =VLOOKUP(A207,KORSum,3,0) -> 0 | E207: =VLOOKUP(A207,KORSum,4,0) -> 0 | F207: =VLOOKUP(A207,KORSum,5,0) -> 0

Sheet Enter Points
A1: ENTER POINTS ONLY, DO NOT DELETE, INSERT, MOVE OR SORT ANYTHING | L1: THIS SHOULD BE READY TO PRINT
A2: Manitou Ridge Men's Club | L2: King of the Ridge Points - 2023
B3: TOURNAMENT POINTS | Q3: WEEKEND SWEEPS POINTS
B4: Open | C4: 2-2 Ball | D4: Mem | E4: Mod | F4: Shamble | G4: 4th | H4: 3 of 4 | I4: Members | J4: Club | K4: Quota | L4: Labor | M4: 6-6-6 | Q4: NOTE: If player does not play in a tournament but does play in the Sweeps event that
B5: Scram | C5: 2 BB | D5: Day | E5: Stable | G5: July | H5: Best Ball | I5: Choice | J5: Champ | K5: Points | L5: Day | Q5: weekend he earns sweeps points. Enter those in the "Tourney Weekend" column. | AA5: TOTAL
D6: END | G6: END | J6: 45150 | L6: END | N6: Singles | O6: Doubles | P6: Tourn | Q6: 45059 | R6: 45080 | S6: 45094 | T6: 45115 | U6: 45129 | V6: 45143 | W6: 45164 | X6: 45185 | Y6: Tourney | Z6: Sweep | AA6: KOR
A7: Player | B7: 45052 | C7: 45098 | D7: 45072 | E7: 45088 | F7: 45101 | G7: 45107 | H7: 45123 | I7: 45136 | J7: 45151 | K7: 45158 | L7: 45170 | M7: 45178 | N7: Challenge | O7: Challenge | P7: Total | Q7: =Q6+1 -> 45060 | R7: =R6+1 -> 45081 | S7: =S6+1 -> 45095 | T7: =T6+1 -> 45116 | U7: 45130 | V7: 45144 | W7: =W6+1 -> 45165 | X7: 45186 | Y7: Weekend | Z7: Total | AA7: POINTS
A8: Tomaszewski, Jon | B8: 3 | C8: 4 | F8: 4 | J8: 7 | M8: 3 | P8: =SUM(B8:O8) -> 21 | R8: 2 | Z8: =IF(SUM(Q8:Y8)>16,16,SUM(Q8:Y8)) -> 2 | AA8: =P8+Z8 -> 23 | AC8: ENTER POINTS ONLY - DO NOT INSERT
A9: Abbott, Rob | D9: 11 | E9: 3 | F9: 9 | G9: 3 | H9: 3 | J9: 15 | L9: 3 | P9: =SUM(B9:O9) -> 47 | Q9: 2 | R9: 2 | V9: 2 | Z9: =IF(SUM(Q9:Y9)>16,16,SUM(Q9:Y9)) -> 6 | AA9: =P9+Z9 -> 53 | AC9: DELETE, MOVE OR SORT ANYTHING
A10: Abel, Mike | P10: =SUM(B10:O10) -> 0 | V10: 2 | W10: 2 | Z10: =IF(SUM(Q10:Y10)>16,16,SUM(Q10:Y10)) -> 4 | AA10: =P10+Z10 -> 4
A11: Amsden, Larry | B11: 13 | C11: 3 | H11: 3 | I11: 3 | K11: 3 | M11: 3 | P11: =SUM(B11:O11) -> 28 | Z11: =IF(SUM(Q11:Y11)>16,16,SUM(Q11:Y11)) -> 0 | AA11: =P11+Z11 -> 28
A12: Anderson, Craig | B12: 3 | D12: 3 | E12: 3 | F12: 3 | G12: 3 | H12: 3 | I12: 3 | J12: 3 | K12: 12 | L12: 3 | M12: 3 | P12: =SUM(B12:O12) -> 42 | Q12: 2 | R12: 2 | S12: 2 | T12: 2 | U12: 2 | V12: 2 | W12: 2 | Z12: =IF(SUM(Q12:Y12)>16,16,SUM(Q12:Y12)) -> 14 | AA12: =P12+Z12 -> 56
A13: Anderson, Lynn | P13: =SUM(B13:O13) -> 0 | R13: 2 | S13: 2 | T13: 2 | U13: 2 | V13: 2 | W13: 2 | Z13: =IF(SUM(Q13:Y13)>16,16,SUM(Q13:Y13)) -> 12 | AA13: =P13+Z13 -> 12
A14: Anderson, Steven | B14: 3 | C14: 3 | D14: 3 | E14: 7 | F14: 3 | G14: 3 | J14: 3 | P14: =SUM(B14:O14) -> 25 | Q14: 2 | R14: 2 | S14: 2 | Z14: =IF(SUM(Q14:Y14)>16,16,SUM(Q14:Y14)) -> 6 | AA14: =P14+Z14 -> 31
A15: Andrews, Greg | B15: 3 | C15: 11 | D15: 3 | F15: 3 | G15: 13 | H15: 3 | I15: 3 | J15: 3 | P15: =SUM(B15:O15) -> 42 | S15: 2 | T15: 2 | Z15: =IF(SUM(Q15:Y15)>16,16,SUM(Q15:Y15)) -> 4 | AA15: =P15+Z15 -> 46
A16: Bahrke, Thomas | E16: 3 | G16: 3 | M16: 13 | P16: =SUM(B16:O16) -> 19 | R16: 2 | Z16: =IF(SUM(Q16:Y16)>16,16,SUM(Q16:Y16)) -> 2 | AA16: =P16+Z16 -> 21 | AC16: ENTER POINTS ONLY - DO NOT INSERT
A17: Bailey, Mike | C17: 3 | E17: 3 | H17: 13 | J17: 23 | K17: 12 | L17: 11 | M17: 9 | P17: =SUM(B17:O17) -> 74 | R17: 2 | W17: 2 | Z17: =IF(SUM(Q17:Y17)>16,16,SUM(Q17:Y17)) -> 4 | AA17: =P17+Z17 -> 78 | AC17: DELETE, MOVE OR SORT ANYTHING
A18: Baregi, Tom | C18: 3 | E18: 3 | G18: 3 | H18: 13 | J18: 3 | K18: 3 | L18: 3 | M18: 3 | P18: =SUM(B18:O18) -> 34 | R18: 2 | S18: 2 | T18: 2 | U18: 2 | W18: 2 | Z18: =IF(SUM(Q18:Y18)>16,16,SUM(Q18:Y18)) -> 10 | AA18: =P18+Z18 -> 44
A19: Beaurline, CJ | D19: 11 | E19: 3 | G19: 3 | I19: 4 | J19: 19 | L19: 3 | M19: 3 | P19: =SUM(B19:O19) -> 46 | Q19: 2 | R19: 2 | S19: 2 | T19: 2 | U19: 2 | V19: 2 | W19: 2 | Z19: =IF(SUM(Q19:Y19)>16,16,SUM(Q19:Y19)) -> 14 | AA19: =P19+Z19 -> 60
A20: Beier, Bob | B20: 3 | C20: 13 | D20: 11 | E20: 3 | F20: 3 | G20: 3 | H20: 3 | J20: 3 | K20: 3 | L20: 3 | M20: 9 | P20: =SUM(B20:O20) -> 57 | Q20: 2 | R20: 2 | S20: 2 | T20: 2 | W20: 2 | Z20: =IF(SUM(Q20:Y20)>16,16,SUM(Q20:Y20)) -> 10 | AA20: =P20+Z20 -> 67
A21: Belden, Ray Jr | B21: 3 | C21: 3 | D21: 3 | F21: 3 | G21: 3 | P21: =SUM(B21:O21) -> 15 | Z21: =IF(SUM(Q21:Y21)>16,16,SUM(Q21:Y21)) -> 0 | AA21: =P21+Z21 -> 15
A22: Berger, Jay | F22: 3 | I22: 7 | L22: 3 | M22: 9 | P22: =SUM(B22:O22) -> 22 | S22: 2 | T22: 2 | W22: 2 | Y22: 2 | Z22: =IF(SUM(Q22:Y22)>16,16,SUM(Q22:Y22)) -> 8 | AA22: =P22+Z22 -> 30
A23: Biebighauser, Bernie | B23: 3 | C23: 3 | E23: 5 | H23: 3 | K23: 3 | M23: 3 | O23: 10 | P23: =SUM(B23:O23) -> 30 | T23: 2 | U23: 2 | V23: 2 | Z23: =IF(SUM(Q23:Y23)>16,16,SUM(Q23:Y23)) -> 6 | AA23: =P23+Z23 -> 36
A24: Blegen, Gunnar | B24: 8 | E24: 3 | F24: 3 | J24: 15 | K24: 9 | M24: 3 | P24: =SUM(B24:O24) -> 41 | Z24: =IF(SUM(Q24:Y24)>16,16,SUM(Q24:Y24)) -> 0 | AA24: =P24+Z24 -> 41
A25: Butkovich, George | B25: 3 | C25: 3 | E25: 3 | F25: 9 | G25: 3 | H25: 3 | I25: 9 | J25: 19 | K25: 12 | L25: 13 | M25: 3 | P25: =SUM(B25:O25) -> 80 | R25: 2 | T25: 2 | V25: 2 | Z25: =IF(SUM(Q25:Y25)>16,16,SUM(Q25:Y25)) -> 6 | AA25: =P25+Z25 -> 86
A26: Campion, Donny | B26: 10 | C26: 3 | D26: 3 | E26: 13 | F26: 3 | G26: 3 | H26: 3 | I26: 9 | J26: 3 | K26: 3 | L26: 9 | M26: 13 | P26: =SUM(B26:O26) -> 75 | Q26: 2 | R26: 2 | S26: 2 | T26: 2 | V26: 2 | W26: 2 | Z26: =IF(SUM(Q26:Y26)>16,16,SUM(Q26:Y26)) -> 12 | AA26: =P26+Z26 -> 87
A27: Carroll, Jim | B27: 10 | C27: 3 | D27: 7 | E27: 3 | F27: 3 | G27: 3 | H27: 3 | I27: 4 | J27: 3 | L27: 3 | P27: =SUM(B27:O27) -> 42 | Q27: 2 | R27: 2 | S27: 2 | T27: 2 | U27: 2 | V27: 2 | Y27: 2 | Z27: =IF(SUM(Q27:Y27)>16,16,SUM(Q27:Y27)) -> 14 | AA27: =P27+Z27 -> 56 | AC27: ENTER POINTS ONLY - DO NOT INSERT
A28: Carroll, Ty | B28: 3 | D28: 3 | E28: 3 | F28: 3 | G28: 3 | M28: 3 | P28: =SUM(B28:O28) -> 18 | Q28: 2 | R28: 2 | T28: 2 | Z28: =IF(SUM(Q28:Y28)>16,16,SUM(Q28:Y28)) -> 6 | AA28: =P28+Z28 -> 24 | AC28: DELETE, MOVE OR SORT ANYTHING
A29: Clemings, BJ | B29: 3 | C29: 3 | D29: 3 | E29: 3 | F29: 9 | G29: 7 | H29: 3 | I29: 3 | J29: 3 | K29: 5 | L29: 3 | M29: 11 | P29: =SUM(B29:O29) -> 56 | Q29: 2 | R29: 2 | S29: 2 | T29: 2 | U29: 2 | V29: 2 | W29: 2 | Z29: =IF(SUM(Q29:Y29)>16,16,SUM(Q29:Y29)) -> 14 | AA29: =P29+Z29 -> 70
A30: Clemings, Bob | B30: 3 | C30: 3 | D30: 3 | E30: 3 | F30: 3 | G30: 3 | H30: 3 | I30: 7 | J30: 3 | K30: 7 | L30: 7 | M30: 11 | P30: =SUM(B30:O30) -> 56 | S30: 2 | T30: 2 | Z30: =IF(SUM(Q30:Y30)>16,16,SUM(Q30:Y30)) -> 4 | AA30: =P30+Z30 -> 60
A31: Conrad, Max | B31: 3 | C31: 13 | D31: 3 | E31: 3 | F31: 9 | H31: 3 | I31: 13 | K31: 3 | L31: 6 | M31: 3 | P31: =SUM(B31:O31) -> 59 | R31: 2 | V31: 2 | W31: 2 | Z31: =IF(SUM(Q31:Y31)>16,16,SUM(Q31:Y31)) -> 6 | AA31: =P31+Z31 -> 65
A32: Conrad, Spencer | B32: 3 | C32: 11 | D32: 5 | E32: 3 | G32: 3 | I32: 3 | P32: =SUM(B32:O32) -> 28 | Q32: 2 | R32: 2 | W32: 2 | Z32: =IF(SUM(Q32:Y32)>16,16,SUM(Q32:Y32)) -> 6 | AA32: =P32+Z32 -> 34
A33: Crimmins, Ryan | B33: 3 | C33: 3 | E33: 11 | F33: 3 | G33: 3 | I33: 4 | J33: 15 | L33: 3 | P33: =SUM(B33:O33) -> 45 | V33: 2 | Z33: =IF(SUM(Q33:Y33)>16,16,SUM(Q33:Y33)) -> 2 | AA33: =P33+Z33 -> 47
A34: Cook, Matt | M34: 3 | P34: =SUM(B34:O34) -> 3 | Z34: =IF(SUM(Q34:Y34)>16,16,SUM(Q34:Y34)) -> 0 | AA34: =P34+Z34 -> 3
A35: Danielson, Adam | B35: 8 | F35: 4 | H35: 3 | J35: 3 | P35: =SUM(B35:O35) -> 18 | Z35: =IF(SUM(Q35:Y35)>16,16,SUM(Q35:Y35)) -> 0 | AA35: =P35+Z35 -> 18 | AB35: 4 | AC35: ENTER POINTS ONLY - DO NOT INSERT
A36: Davis, Joe | B36: 3 | C36: 3 | D36: 7 | E36: 3 | G36: 3 | H36: 7 | J36: 3 | L36: 3 | M36: 11 | P36: =SUM(B36:O36) -> 43 | Q36: 2 | V36: 2 | W36: 2 | Z36: =IF(SUM(Q36:Y36)>16,16,SUM(Q36:Y36)) -> 6 | AA36: =P36+Z36 -> 49 | AB36: 2 | AC36: DELETE, MOVE OR SORT ANYTHING
A37: Degel, Mike | C37: 3 | D37: 3 | G37: 3 | H37: 3 | I37: 3 | J37: 3 | K37: 3 | L37: 3 | P37: =SUM(B37:O37) -> 24 | Q37: 2 | R37: 2 | S37: 2 | T37: 2 | V37: 2 | W37: 2 | Y37: 2 | Z37: =IF(SUM(Q37:Y37)>16,16,SUM(Q37:Y37)) -> 14 | AA37: =P37+Z37 -> 38
A38: Dircks, Bill | P38: =SUM(B38:O38) -> 0 | Q38: 2 | R38: 2 | Z38: =IF(SUM(Q38:Y38)>16,16,SUM(Q38:Y38)) -> 4 | AA38: =P38+Z38 -> 4
A39: Dolan, Michael | B39: 3 | P39: =SUM(B39:O39) -> 3 | Z39: =IF(SUM(Q39:Y39)>16,16,SUM(Q39:Y39)) -> 0 | AA39: =P39+Z39 -> 3 | AB39: 2
A40: Donnelly, Mike | B40: 3 | C40: 3 | D40: 12 | E40: 3 | G40: 3 | H40: 11 | I40: 3 | J40: 3 | K40: 3 | P40: =SUM(B40:O40) -> 44 | T40: 2 | V40: 2 | Z40: =IF(SUM(Q40:Y40)>16,16,SUM(Q40:Y40)) -> 4 | AA40: =P40+Z40 -> 48
A41: Donovan, Dan | B41: 3 | D41: 9 | E41: 3 | F41: 3 | I41: 3 | L41: 7 | M41: 3 | P41: =SUM(B41:O41) -> 31 | R41: 2 | S41: 2 | T41: 2 | U41: 2 | W41: 2 | Z41: =IF(SUM(Q41:Y41)>16,16,SUM(Q41:Y41)) -> 10 | AA41: =P41+Z41 -> 41 | AB41: 2
A42: Donovan, Shawn | B42: 3 | E42: 3 | F42: 3 | I42: 11 | M42: 3 | P42: =SUM(B42:O42) -> 23 | Z42: =IF(SUM(Q42:Y42)>16,16,SUM(Q42:Y42)) -> 0 | AA42: =P42+Z42 -> 23
A43: Dyer, Jeff | B43: 3 | D43: 3 | E43: 3 | F43: 3 | G43: 3 | H43: 5 | I43: 3 | J43: 11 | M43: 3 | P43: =SUM(B43:O43) -> 37 | Q43: 2 | R43: 2 | S43: 2 | T43: 2 | U43: 2 | V43: 2 | Z43: =IF(SUM(Q43:Y43)>16,16,SUM(Q43:Y43)) -> 12 | AA43: =P43+Z43 -> 49 | AC43: ENTER POINTS ONLY - DO NOT INSERT
A44: Ebnet, Zach | B44: 3 | P44: =SUM(B44:O44) -> 3 | Z44: =IF(SUM(Q44:Y44)>16,16,SUM(Q44:Y44)) -> 0 | AA44: =P44+Z44 -> 3 | AC44: DELETE, MOVE OR SORT ANYTHING
A45: Eide, Tom | F45: 9 | G45: 3 | I45: 3 | L45: 3 | P45: =SUM(B45:O45) -> 18 | R45: 2 | S45: 2 | T45: 2 | U45: 2 | V45: 2 | Y45: 4 | Z45: =IF(SUM(Q45:Y45)>16,16,SUM(Q45:Y45)) -> 14 | AA45: =P45+Z45 -> 32
A46: Eriksson, Carl | B46: 8 | C46: 3 | E46: 3 | F46: 3 | G46: 3 | H46: 3 | J46: 3 | O46: 8 | P46: =SUM(B46:O46) -> 34 | Q46: 2 | R46: 2 | V46: 2 | W46: 2 | Z46: =IF(SUM(Q46:Y46)>16,16,SUM(Q46:Y46)) -> 8 | AA46: =P46+Z46 -> 42
A47: Frascone, Kevin | B47: 3 | C47: 3 | D47: 7 | E47: 3 | F47: 3 | G47: 3 | H47: 3 | I47: 4 | J47: 3 | K47: 12 | M47: 3 | O47: 10 | P47: =SUM(B47:O47) -> 57 | R47: 2 | S47: 2 | T47: 2 | U47: 2 | V47: 2 | W47: 2 | Z47: =IF(SUM(Q47:Y47)>16,16,SUM(Q47:Y47)) -> 12 | AA47: =P47+Z47 -> 69
A48: Friberg, Chris | B48: 3 | C48: 3 | D48: 3 | E48: 9 | F48: 3 | G48: 3 | J48: 3 | K48: 3 | L48: 13 | M48: 3 | P48: =SUM(B48:O48) -> 46 | R48: 2 | T48: 2 | U48: 2 | Z48: =IF(SUM(Q48:Y48)>16,16,SUM(Q48:Y48)) -> 6 | AA48: =P48+Z48 -> 52 | AB48: 4
A49: Furey, Mike | B49: 3 | C49: 3 | D49: 3 | G49: 3 | J49: 7 | K49: 9 | L49: 3 | P49: =SUM(B49:O49) -> 31 | R49: 2 | S49: 2 | T49: 2 | U49: 2 | V49: 2 | W49: 2 | Z49: =IF(SUM(Q49:Y49)>16,16,SUM(Q49:Y49)) -> 12 | AA49: =P49+Z49 -> 43 | AB49: 4
A50: Gadbois, Tom | P50: =SUM(B50:O50) -> 0 | Z50: =IF(SUM(Q50:Y50)>16,16,SUM(Q50:Y50)) -> 0 | AA50: =P50+Z50 -> 0
A51: Gibson, Mike | B51: 3 | C51: 3 | D51: 3 | E51: 3 | F51: 3 | G51: 3 | H51: 3 | I51: 3 | J51: 3 | K51: 9 | M51: 5 | P51: =SUM(B51:O51) -> 41 | Q51: 2 | R51: 2 | S51: 2 | T51: 2 | U51: 2 | V51: 2 | W51: 2 | Z51: =IF(SUM(Q51:Y51)>16,16,SUM(Q51:Y51)) -> 14 | AA51: =P51+Z51 -> 55 | AC51: ENTER POINTS ONLY - DO NOT INSERT
A52: Gillen, Tom | C52: 3 | G52: 3 | H52: 3 | P52: =SUM(B52:O52) -> 9 | R52: 2 | T52: 2 | W52: 2 | Z52: =IF(SUM(Q52:Y52)>16,16,SUM(Q52:Y52)) -> 6 | AA52: =P52+Z52 -> 15 | AB52: 2 | AC52: DELETE, MOVE OR SORT ANYTHING
A53: Glasow, Kevin | C53: 3 | E53: 3 | F53: 3 | G53: 3 | J53: 3 | L53: 3 | M53: 3 | P53: =SUM(B53:O53) -> 21 | Q53: 2 | T53: 2 | V53: 2 | Z53: =IF(SUM(Q53:Y53)>16,16,SUM(Q53:Y53)) -> 6 | AA53: =P53+Z53 -> 27
A54: Grottke, Matt | C54: 3 | E54: 11 | I54: 11 | P54: =SUM(B54:O54) -> 25 | Z54: =IF(SUM(Q54:Y54)>16,16,SUM(Q54:Y54)) -> 0 | AA54: =P54+Z54 -> 25
A55: Hall, Steve | D55: 3 | E55: 3 | G55: 9 | L55: 3 | P55: =SUM(B55:O55) -> 18 | R55: 2 | T55: 2 | U55: 2 | V55: 2 | W55: 2 | Y55: 4 | Z55: =IF(SUM(Q55:Y55)>16,16,SUM(Q55:Y55)) -> 14 | AA55: =P55+Z55 -> 32
A56: Hanna, Bob | B56: 3 | C56: 3 | D56: 3 | E56: 3 | F56: 9 | G56: 3 | H56: 3 | I56: 4 | J56: 3 | K56: 5 | L56: 3 | M56: 5 | P56: =SUM(B56:O56) -> 47 | Q56: 2 | R56: 2 | S56: 2 | T56: 2 | V56: 2 | W56: 2 | Z56: =IF(SUM(Q56:Y56)>16,16,SUM(Q56:Y56)) -> 12 | AA56: =P56+Z56 -> 59
A57: Hanson, Chuck | B57: 3 | C57: 7 | D57: 3 | E57: 13 | F57: 3 | G57: 3 | H57: 3 | I57: 3 | J57: 3 | K57: 3 | L57: 3 | M57: 3 | P57: =SUM(B57:O57) -> 50 | Q57: 2 | R57: 2 | S57: 2 | T57: 2 | U57: 2 | V57: 2 | W57: 2 | Z57: =IF(SUM(Q57:Y57)>16,16,SUM(Q57:Y57)) -> 14 | AA57: =P57+Z57 -> 64
A58: Hanson, Terry | B58: 3 | H58: 3 | P58: =SUM(B58:O58) -> 6 | Z58: =IF(SUM(Q58:Y58)>16,16,SUM(Q58:Y58)) -> 0 | AA58: =P58+Z58 -> 6
A59: Harrison, David | B59: 8 | C59: 3 | D59: 9 | E59: 13 | F59: 3 | G59: 13 | H59: 3 | I59: 3 | J59: 3 | K59: 3 | L59: 11 | M59: 3 | P59: =SUM(B59:O59) -> 75 | Q59: 2 | R59: 2 | S59: 2 | T59: 2 | V59: 2 | W59: 2 | Z59: =IF(SUM(Q59:Y59)>16,16,SUM(Q59:Y59)) -> 12 | AA59: =P59+Z59 -> 87
A60: Hartenberg, Bryan | B60: 3 | C60: 9 | D60: 13 | E60: 3 | F60: 3 | G60: 13 | H60: 3 | I60: 3 | J60: 15 | K60: 3 | L60: 5 | M60: 13 | P60: =SUM(B60:O60) -> 86 | R60: 2 | S60: 2 | T60: 2 | U60: 2 | V60: 2 | W60: 2 | Z60: =IF(SUM(Q60:Y60)>16,16,SUM(Q60:Y60)) -> 12 | AA60: =P60+Z60 -> 98
A61: Hauer, Justin | C61: 11 | D61: 3 | E61: 3 | F61: 3 | G61: 9 | H61: 3 | I61: 3 | J61: 3 | L61: 3 | M61: 3 | P61: =SUM(B61:O61) -> 44 | Q61: 2 | R61: 2 | T61: 2 | Z61: =IF(SUM(Q61:Y61)>16,16,SUM(Q61:Y61)) -> 6 | AA61: =P61+Z61 -> 50 | AC61: ENTER POINTS ONLY - DO NOT INSERT
A62: Hernandez, Dave | G62: 3 | H62: 3 | L62: 3 | P62: =SUM(B62:O62) -> 9 | Q62: 2 | R62: 2 | T62: 2 | U62: 2 | V62: 2 | W62: 2 | Y62: 4 | Z62: =IF(SUM(Q62:Y62)>16,16,SUM(Q62:Y62)) -> 16 | AA62: =P62+Z62 -> 25 | AC62: DELETE, MOVE OR SORT ANYTHING
A63: Heurung, Bob | B63: 3 | C63: 3 | D63: 3 | E63: 9 | F63: 3 | G63: 3 | I63: 3 | J63: 3 | L63: 13 | P63: =SUM(B63:O63) -> 43 | Q63: 2 | R63: 2 | S63: 2 | U63: 2 | V63: 2 | W63: 2 | Y63: 2 | Z63: =IF(SUM(Q63:Y63)>16,16,SUM(Q63:Y63)) -> 14 | AA63: =P63+Z63 -> 57
A64: Hodd, Rod | B64: 3 | C64: 3 | H64: 3 | P64: =SUM(B64:O64) -> 9 | Z64: =IF(SUM(Q64:Y64)>16,16,SUM(Q64:Y64)) -> 0 | AA64: =P64+Z64 -> 9
A65: Hoye, Bob | B65: 3 | C65: 3 | D65: 13 | F65: 3 | G65: 5 | H65: 3 | J65: 15 | K65: 3 | L65: 3 | M65: 3 | P65: =SUM(B65:O65) -> 54 | Q65: 2 | S65: 2 | T65: 2 | U65: 2 | V65: 2 | W65: 2 | Y65: 2 | Z65: =IF(SUM(Q65:Y65)>16,16,SUM(Q65:Y65)) -> 14 | AA65: =P65+Z65 -> 68
A66: Hubbard, Dave | B66: 3 | D66: 3 | E66: 3 | G66: 11 | J66: 11 | L66: 11 | O66: 8 | P66: =SUM(B66:O66) -> 50 | Q66: 2 | T66: 2 | U66: 2 | V66: 2 | Y66: 2 | Z66: =IF(SUM(Q66:Y66)>16,16,SUM(Q66:Y66)) -> 10 | AA66: =P66+Z66 -> 60
A67: Hubbard, Greg | D67: 3 | E67: 3 | L67: 3 | P67: =SUM(B67:O67) -> 9 | S67: 2 | T67: 2 | U67: 2 | V67: 2 | W67: 2 | Y67: 2 | Z67: =IF(SUM(Q67:Y67)>16,16,SUM(Q67:Y67)) -> 12 | AA67: =P67+Z67 -> 21
A68: Jamnik, Joel | B68: 3 | C68: 4 | D68: 3 | E68: 3 | F68: 3 | G68: 3 | H68: 9 | I68: 3 | J68: 3 | K68: 12 | L68: 11 | M68: 3 | P68: =SUM(B68:O68) -> 60 | Q68: 2 | R68: 2 | S68: 2 | T68: 2 | U68: 2 | V68: 2 | W68: 2 | Z68: =IF(SUM(Q68:Y68)>16,16,SUM(Q68:Y68)) -> 14 | AA68: =P68+Z68 -> 74
A69: Jamnik, Josh | G69: 3 | M69: 3 | P69: =SUM(B69:O69) -> 6 | S69: 2 | Z69: =IF(SUM(Q69:Y69)>16,16,SUM(Q69:Y69)) -> 2 | AA69: =P69+Z69 -> 8 | AC69: ENTER POINTS ONLY - DO NOT INSERT
A70: Janke, John | C70: 3 | D70: 3 | G70: 3 | H70: 13 | J70: 3 | L70: 13 | M70: 3 | P70: =SUM(B70:O70) -> 41 | R70: 2 | S70: 2 | T70: 2 | V70: 2 | W70: 2 | Z70: =IF(SUM(Q70:Y70)>16,16,SUM(Q70:Y70)) -> 10 | AA70: =P70+Z70 -> 51 | AC70: DELETE, MOVE OR SORT ANYTHING
A71: Jansen, Jim Sr | C71: 3 | E71: 3 | H71: 3 | P71: =SUM(B71:O71) -> 9 | R71: 2 | U71: 2 | V71: 2 | W71: 2 | Z71: =IF(SUM(Q71:Y71)>16,16,SUM(Q71:Y71)) -> 8 | AA71: =P71+Z71 -> 17
A72: Jansen, Jim Jr | E72: 3 | P72: =SUM(B72:O72) -> 3 | U72: 2 | W72: 2 | Z72: =IF(SUM(Q72:Y72)>16,16,SUM(Q72:Y72)) -> 4 | AA72: =P72+Z72 -> 7
A73: Jarombek, Andy | I73: 9 | P73: =SUM(B73:O73) -> 9 | Z73: =IF(SUM(Q73:Y73)>16,16,SUM(Q73:Y73)) -> 0 | AA73: =P73+Z73 -> 9
A74: Jensen, Jim | D74: 3 | E74: 3 | F74: 3 | G74: 3 | H74: 3 | L74: 3 | M74: 3 | O74: 5 | P74: =SUM(B74:O74) -> 26 | Q74: 2 | R74: 2 | S74: 2 | T74: 2 | U74: 2 | W74: 2 | Z74: =IF(SUM(Q74:Y74)>16,16,SUM(Q74:Y74)) -> 12 | AA74: =P74+Z74 -> 38
A75: Johnson, Bones | B75: 3 | C75: 3 | D75: 3 | E75: 3 | F75: 9 | G75: 7 | H75: 3 | I75: 4 | J75: 23 | K75: 3 | L75: 3 | M75: 9 | O75: 5 | P75: =SUM(B75:O75) -> 78 | S75: 2 | T75: 2 | U75: 2 | V75: 2 | W75: 2 | Z75: =IF(SUM(Q75:Y75)>16,16,SUM(Q75:Y75)) -> 10 | AA75: =P75+Z75 -> 88
A76: Kampf, Jeff | B76: 3 | D76: 3 | F76: 4 | G76: 3 | H76: 3 | I76: 13 | J76: 3 | K76: 3 | L76: 3 | M76: 3 | P76: =SUM(B76:O76) -> 41 | R76: 2 | W76: 2 | Z76: =IF(SUM(Q76:Y76)>16,16,SUM(Q76:Y76)) -> 4 | AA76: =P76+Z76 -> 45
A77: Kangas, Luther | H77: 3 | J77: 3 | P77: =SUM(B77:O77) -> 6 | R77: 2 | Z77: =IF(SUM(Q77:Y77)>16,16,SUM(Q77:Y77)) -> 2 | AA77: =P77+Z77 -> 8
A78: Kantola, Willy | F78: 3 | P78: =SUM(B78:O78) -> 3 | Z78: =IF(SUM(Q78:Y78)>16,16,SUM(Q78:Y78)) -> 0 | AA78: =P78+Z78 -> 3
A79: Kelsey, Chris | B79: 3 | C79: 3 | D79: 11 | E79: 3 | F79: 3 | G79: 3 | I79: 3 | J79: 3 | K79: 3 | L79: 3 | M79: 3 | P79: =SUM(B79:O79) -> 41 | R79: 2 | S79: 2 | U79: 2 | W79: 2 | Z79: =IF(SUM(Q79:Y79)>16,16,SUM(Q79:Y79)) -> 8 | AA79: =P79+Z79 -> 49 | AC79: ENTER POINTS ONLY - DO NOT INSERT
A80: KinneyKevin | F80: 13 | P80: =SUM(B80:O80) -> 13 | Z80: =IF(SUM(Q80:Y80)>16,16,SUM(Q80:Y80)) -> 0 | AA80: =P80+Z80 -> 13 | AC80: DELETE, MOVE OR SORT ANYTHING
A81: Knetsch, Elliot | B81: 3 | C81: 4 | D81: 3 | E81: 3 | F81: 3 | G81: 3 | I81: 3 | J81: 3 | L81: 3 | P81: =SUM(B81:O81) -> 28 | Q81: 2 | R81: 2 | S81: 2 | T81: 2 | U81: 2 | W81: 2 | Y81: 2 | Z81: =IF(SUM(Q81:Y81)>16,16,SUM(Q81:Y81)) -> 14 | AA81: =P81+Z81 -> 42
A82: Kohler, Don | B82: 13 | P82: =SUM(B82:O82) -> 13 | Z82: =IF(SUM(Q82:Y82)>16,16,SUM(Q82:Y82)) -> 0 | AA82: =P82+Z82 -> 13
A83: Kokaisel, John Jr | E83: 3 | H83: 3 | P83: =SUM(B83:O83) -> 6 | R83: 2 | V83: 2 | W83: 2 | Z83: =IF(SUM(Q83:Y83)>16,16,SUM(Q83:Y83)) -> 6 | AA83: =P83+Z83 -> 12
A84: Kokaisel, John Sr | B84: 3 | E84: 3 | H84: 3 | P84: =SUM(B84:O84) -> 9 | R84: 2 | V84: 2 | W84: 2 | Z84: =IF(SUM(Q84:Y84)>16,16,SUM(Q84:Y84)) -> 6 | AA84: =P84+Z84 -> 15
A85: Korf, Nate | B85: 3 | C85: 4 | E85: 3 | F85: 3 | G85: 3 | H85: 7 | J85: 3 | K85: 5 | L85: 3 | M85: 3 | P85: =SUM(B85:O85) -> 37 | Q85: 2 | W85: 2 | Z85: =IF(SUM(Q85:Y85)>16,16,SUM(Q85:Y85)) -> 4 | AA85: =P85+Z85 -> 41
A86: Kotzmacher, Mike | C86: 3 | E86: 3 | G86: 3 | H86: 3 | M86: 3 | P86: =SUM(B86:O86) -> 15 | U86: 2 | Z86: =IF(SUM(Q86:Y86)>16,16,SUM(Q86:Y86)) -> 2 | AA86: =P86+Z86 -> 17
A87: Kunz, George | B87: 3 | C87: 3 | D87: 3 | E87: 3 | F87: 4 | G87: 6 | H87: 9 | I87: 3 | J87: 7 | K87: 3 | L87: 5 | M87: 3 | P87: =SUM(B87:O87) -> 52 | Q87: 2 | R87: 2 | S87: 2 | T87: 2 | U87: 2 | V87: 2 | W87: 2 | Z87: =IF(SUM(Q87:Y87)>16,16,SUM(Q87:Y87)) -> 14 | AA87: =P87+Z87 -> 66 | AC87: ENTER POINTS ONLY - DO NOT INSERT
A88: Kunz, Jim | B88: 8 | C88: 3 | E88: 3 | F88: 3 | H88: 9 | I88: 3 | J88: 3 | K88: 3 | L88: 3 | M88: 3 | P88: =SUM(B88:O88) -> 41 | Q88: 2 | R88: 2 | S88: 2 | T88: 2 | U88: 2 | V88: 2 | W88: 2 | Z88: =IF(SUM(Q88:Y88)>16,16,SUM(Q88:Y88)) -> 14 | AA88: =P88+Z88 -> 55 | AC88: DELETE, MOVE OR SORT ANYTHING
A89: Larson, Rob | E89: 3 | F89: 4 | G89: 3 | J89: 3 | L89: 3 | P89: =SUM(B89:O89) -> 16 | R89: 2 | U89: 2 | W89: 2 | Z89: =IF(SUM(Q89:Y89)>16,16,SUM(Q89:Y89)) -> 6 | AA89: =P89+Z89 -> 22
A90: Larson, Sean | C90: 3 | P90: =SUM(B90:O90) -> 3 | Q90: 2 | S90: 2 | U90: 2 | Z90: =IF(SUM(Q90:Y90)>16,16,SUM(Q90:Y90)) -> 6 | AA90: =P90+Z90 -> 9
A91: Lemon, Andy | B91: 3 | C91: 7 | E91: 7 | F91: 3 | I91: 3 | J91: 23 | P91: =SUM(B91:O91) -> 46 | Z91: =IF(SUM(Q91:Y91)>16,16,SUM(Q91:Y91)) -> 0 | AA91: =P91+Z91 -> 46
A92: Linde, John | D92: 3 | E92: 3 | F92: 3 | G92: 3 | I92: 3 | J92: 3 | L92: 3 | P92: =SUM(B92:O92) -> 21 | Q92: 2 | R92: 2 | S92: 2 | W92: 2 | Z92: =IF(SUM(Q92:Y92)>16,16,SUM(Q92:Y92)) -> 8 | AA92: =P92+Z92 -> 29
A93: Lindemoen, Mike | B93: 3 | C93: 3 | E93: 9 | F93: 3 | H93: 3 | J93: 19 | K93: 3 | L93: 3 | M93: 5 | P93: =SUM(B93:O93) -> 51 | Q93: 2 | R93: 2 | S93: 2 | V93: 2 | W93: 2 | Z93: =IF(SUM(Q93:Y93)>16,16,SUM(Q93:Y93)) -> 10 | AA93: =P93+Z93 -> 61
A94: Lindemoen, Ron | B94: 3 | C94: 3 | D94: 3 | E94: 9 | F94: 3 | G94: 11 | H94: 3 | I94: 3 | J94: 3 | K94: 3 | L94: 3 | M94: 5 | P94: =SUM(B94:O94) -> 52 | Q94: 2 | R94: 2 | S94: 2 | U94: 2 | W94: 2 | Z94: =IF(SUM(Q94:Y94)>16,16,SUM(Q94:Y94)) -> 10 | AA94: =P94+Z94 -> 62
A95: Lund, Ben | D95: 3 | E95: 3 | G95: 7 | J95: 3 | L95: 3 | P95: =SUM(B95:O95) -> 19 | Q95: 2 | V95: 2 | W95: 2 | Z95: =IF(SUM(Q95:Y95)>16,16,SUM(Q95:Y95)) -> 6 | AA95: =P95+Z95 -> 25
A96: Lyke, Mark | B96: 8 | D96: 3 | E96: 3 | G96: 3 | J96: 3 | L96: 5 | M96: 3 | N96: 8 | P96: =SUM(B96:O96) -> 36 | Q96: 2 | R96: 2 | S96: 2 | T96: 2 | V96: 2 | W96: 2 | Y96: 2 | Z96: =IF(SUM(Q96:Y96)>16,16,SUM(Q96:Y96)) -> 14 | AA96: =P96+Z96 -> 50 | AC96: ENTER POINTS ONLY - DO NOT INSERT
A97: Lynch, Scott | B97: 3 | C97: 3 | G97: 3 | H97: 3 | I97: 7 | K97: 3 | P97: =SUM(B97:O97) -> 22 | Z97: =IF(SUM(Q97:Y97)>16,16,SUM(Q97:Y97)) -> 0 | AA97: =P97+Z97 -> 22 | AC97: DELETE, MOVE OR SORT ANYTHING
A98: Machado, Josh | B98: 3 | C98: 4 | E98: 3 | F98: 3 | G98: 3 | H98: 7 | J98: 19 | M98: 3 | P98: =SUM(B98:O98) -> 45 | Q98: 2 | Z98: =IF(SUM(Q98:Y98)>16,16,SUM(Q98:Y98)) -> 2 | AA98: =P98+Z98 -> 47
A99: Marchio, Stan | C99: 3 | E99: 5 | G99: 3 | H99: 3 | P99: =SUM(B99:O99) -> 14 | U99: 2 | Z99: =IF(SUM(Q99:Y99)>16,16,SUM(Q99:Y99)) -> 2 | AA99: =P99+Z99 -> 16
A100: Mariano, Frank | C100: 3 | D100: 3 | E100: 3 | G100: 3 | J100: 3 | K100: 3 | L100: 3 | P100: =SUM(B100:O100) -> 21 | S100: 2 | T100: 2 | U100: 2 | V100: 2 | W100: 2 | Z100: =IF(SUM(Q100:Y100)>16,16,SUM(Q100:Y100)) -> 10 | AA100: =P100+Z100 -> 31
...

Sheet SumTotals
A3: DO NOT ENTER OR CHANGE ANYTHING ON THIS TAB!!!!!
C5: Tourney | D5: Sweeps | E5: Total
A9: =RANK(E9,$E$8:$E$219,)+COUNTIF($E$8:E9,E9)-1 -> 44 | B9: ='Enter Points'!A9 -> Abbott, Rob | C9: ='Enter Points'!P9 -> 47 | D9: ='Enter Points'!Z9 -> 6 | E9: ='Enter Points'!AA9 -> 53
A10: =RANK(E10,$E$8:$E$219,)+COUNTIF($E$8:E10,E10)-1 -> 136 | B10: ='Enter Points'!A10 -> Abel, Mike | C10: ='Enter Points'!P10 -> 0 | D10: ='Enter Points'!Z10 -> 4 | E10: ='Enter Points'!AA10 -> 4
A11: =RANK(E11,$E$8:$E$219,)+COUNTIF($E$8:E11,E11)-1 -> 92 | B11: ='Enter Points'!A11 -> Amsden, Larry | C11: ='Enter Points'!P11 -> 28 | D11: ='Enter Points'!Z11 -> 0 | E11: ='Enter Points'!AA11 -> 28
A12: =RANK(E12,$E$8:$E$219,)+COUNTIF($E$8:E12,E12)-1 -> 38 | B12: ='Enter Points'!A12 -> Anderson, Craig | C12: ='Enter Points'!P12 -> 42 | D12: ='Enter Points'!Z12 -> 14 | E12: ='Enter Points'!AA12 -> 56
A13: =RANK(E13,$E$8:$E$219,)+COUNTIF($E$8:E13,E13)-1 -> 123 | B13: ='Enter Points'!A13 -> Anderson, Lynn | C13: ='Enter Points'!P13 -> 0 | D13: ='Enter Points'!Z13 -> 12 | E13: ='Enter Points'!AA13 -> 12
A14: =RANK(E14,$E$8:$E$219,)+COUNTIF($E$8:E14,E14)-1 -> 86 | B14: ='Enter Points'!A14 -> Anderson, Steven | C14: ='Enter Points'!P14 -> 25 | D14: ='Enter Points'!Z14 -> 6 | E14: ='Enter Points'!AA14 -> 31
A15: =RANK(E15,$E$8:$E$219,)+COUNTIF($E$8:E15,E15)-1 -> 59 | B15: ='Enter Points'!A15 -> Andrews, Greg | C15: ='Enter Points'!P15 -> 42 | D15: ='Enter Points'!Z15 -> 4 | E15: ='Enter Points'!AA15 -> 46
A16: =RANK(E16,$E$8:$E$219,)+COUNTIF($E$8:E16,E16)-1 -> 104 | B16: ='Enter Points'!A16 -> Bahrke, Thomas | C16: ='Enter Points'!P16 -> 19 | D16: ='Enter Points'!Z16 -> 2 | E16: ='Enter Points'!AA16 -> 21
A17: =RANK(E17,$E$8:$E$219,)+COUNTIF($E$8:E17,E17)-1 -> 11 | B17: ='Enter Points'!A17 -> Bailey, Mike | C17: ='Enter Points'!P17 -> 74 | D17: ='Enter Points'!Z17 -> 4 | E17: ='Enter Points'!AA17 -> 78
A18: =RANK(E18,$E$8:$E$219,)+COUNTIF($E$8:E18,E18)-1 -> 63 | B18: ='Enter Points'!A18 -> Baregi, Tom | C18: ='Enter Points'!P18 -> 34 | D18: ='Enter Points'!Z18 -> 10 | E18: ='Enter Points'!AA18 -> 44
A19: =RANK(E19,$E$8:$E$219,)+COUNTIF($E$8:E19,E19)-1 -> 27 | B19: Beaurline, CJ | C19: ='Enter Points'!P19 -> 46 | D19: ='Enter Points'!Z19 -> 14 | E19: ='Enter Points'!AA19 -> 60
A20: =RANK(E20,$E$8:$E$219,)+COUNTIF($E$8:E20,E20)-1 -> 18 | B20: ='Enter Points'!A20 -> Beier, Bob | C20: ='Enter Points'!P20 -> 57 | D20: ='Enter Points'!Z20 -> 10 | E20: ='Enter Points'!AA20 -> 67
A21: =RANK(E21,$E$8:$E$219,)+COUNTIF($E$8:E21,E21)-1 -> 88 | B21: ='Enter Points'!A22 -> Berger, Jay | C21: ='Enter Points'!P22 -> 22 | D21: ='Enter Points'!Z22 -> 8 | E21: ='Enter Points'!AA22 -> 30
A22: =RANK(E22,$E$8:$E$219,)+COUNTIF($E$8:E22,E22)-1 -> 75 | B22: ='Enter Points'!A23 -> Biebighauser, Bernie | C22: ='Enter Points'!P23 -> 30 | D22: ='Enter Points'!Z23 -> 6 | E22: ='Enter Points'!AA23 -> 36
A23: =RANK(E23,$E$8:$E$219,)+COUNTIF($E$8:E23,E23)-1 -> 68 | B23: ='Enter Points'!A24 -> Blegen, Gunnar | C23: ='Enter Points'!P24 -> 41 | D23: ='Enter Points'!Z24 -> 0 | E23: ='Enter Points'!AA24 -> 41
A24: =RANK(E24,$E$8:$E$219,)+COUNTIF($E$8:E24,E24)-1 -> 7 | B24: ='Enter Points'!A25 -> Butkovich, George | C24: ='Enter Points'!P25 -> 80 | D24: ='Enter Points'!Z25 -> 6 | E24: ='Enter Points'!AA25 -> 86
A25: =RANK(E25,$E$8:$E$219,)+COUNTIF($E$8:E25,E25)-1 -> 4 | B25: ='Enter Points'!A26 -> Campion, Donny | C25: ='Enter Points'!P26 -> 75 | D25: ='Enter Points'!Z26 -> 12 | E25: ='Enter Points'!AA26 -> 87
A26: =RANK(E26,$E$8:$E$219,)+COUNTIF($E$8:E26,E26)-1 -> 39 | B26: ='Enter Points'!A27 -> Carroll, Jim | C26: ='Enter Points'!P27 -> 42 | D26: ='Enter Points'!Z27 -> 14 | E26: ='Enter Points'!AA27 -> 56
A27: =RANK(E27,$E$8:$E$219,)+COUNTIF($E$8:E27,E27)-1 -> 98 | B27: ='Enter Points'!A28 -> Carroll, Ty | C27: ='Enter Points'!P28 -> 18 | D27: ='Enter Points'!Z28 -> 6 | E27: ='Enter Points'!AA28 -> 24
A28: =RANK(E28,$E$8:$E$219,)+COUNTIF($E$8:E28,E28)-1 -> 15 | B28: ='Enter Points'!A29 -> Clemings, BJ | C28: ='Enter Points'!P29 -> 56 | D28: ='Enter Points'!Z29 -> 14 | E28: ='Enter Points'!AA29 -> 70
A29: =RANK(E29,$E$8:$E$219,)+COUNTIF($E$8:E29,E29)-1 -> 28 | B29: ='Enter Points'!A30 -> Clemings, Bob | C29: ='Enter Points'!P30 -> 56 | D29: ='Enter Points'!Z30 -> 4 | E29: ='Enter Points'!AA30 -> 60
A30: =RANK(E30,$E$8:$E$219,)+COUNTIF($E$8:E30,E30)-1 -> 21 | B30: ='Enter Points'!A31 -> Conrad, Max | C30: ='Enter Points'!P31 -> 59 | D30: ='Enter Points'!Z31 -> 6 | E30: ='Enter Points'!AA31 -> 65
A31: =RANK(E31,$E$8:$E$219,)+COUNTIF($E$8:E31,E31)-1 -> 80 | B31: ='Enter Points'!A32 -> Conrad, Spencer | C31: ='Enter Points'!P32 -> 28 | D31: ='Enter Points'!Z32 -> 6 | E31: ='Enter Points'!AA32 -> 34
A32: =RANK(E32,$E$8:$E$219,)+COUNTIF($E$8:E32,E32)-1 -> 57 | B32: ='Enter Points'!A33 -> Crimmins, Ryan | C32: ='Enter Points'!P33 -> 45 | D32: ='Enter Points'!Z33 -> 2 | E32: ='Enter Points'!AA33 -> 47
... A108: =RANK(E108,$E$8:$E$219,)+COUNTIF($E$8:E108,E108)-1 -> 46 | B108: ='Enter Points'!A109 -> Moore, Bryant | C108: ='Enter Points'!P109 -> 47 | D108: ='Enter Points'!Z109 -> 6 | E108: ='Enter Points'!AA109 -> 53
A109: =RANK(E109,$E$8:$E$219,)+COUNTIF($E$8:E109,E109)-1 -> 118 | B109: ='Enter Points'!A111 -> Morse, Zach | C109: ='Enter Points'!P111 -> 14 | D109: ='Enter Points'!Z111 -> 0 | E109: ='Enter Points'!AA111 -> 14
A110: =RANK(E110,$E$8:$E$219,)+COUNTIF($E$8:E110,E110)-1 -> 14 | B110: ='Enter Points'!A112 -> Mroszak, Jim | C110: ='Enter Points'!P112 -> 59 | D110: ='Enter Points'!Z112 -> 14 | E110: ='Enter Points'!AA112 -> 73
A111: =RANK(E111,$E$8:$E$219,)+COUNTIF($E$8:E111,E111)-1 -> 89 | B111: ='Enter Points'!A113 -> Nash, Greg | C111: ='Enter Points'!P113 -> 18 | D111: ='Enter Points'!Z113 -> 12 | E111: ='Enter Points'!AA113 -> 30
A112: =RANK(E112,$E$8:$E$219,)+COUNTIF($E$8:E112,E112)-1 -> 74 | B112: ='Enter Points'!A115 -> Nichols, Tim | C112: ='Enter Points'!P115 -> 35 | D112: ='Enter Points'!Z115 -> 2 | E112: ='Enter Points'!AA115 -> 37
A113: =RANK(E113,$E$8:$E$219,)+COUNTIF($E$8:E113,E113)-1 -> 31 | B113: ='Enter Points'!A116 -> O'Keefe, Dennis | C113: ='Enter Points'!P116 -> 51 | D113: ='Enter Points'!Z116 -> 8 | E113: ='Enter Points'!AA116 -> 59
A114: =RANK(E114,$E$8:$E$219,)+COUNTIF($E$8:E114,E114)-1 -> 77 | B114: ='Enter Points'!A117 -> O'Keefe, Jim | C114: ='Enter Points'!P117 -> 32 | D114: ='Enter Points'!Z117 -> 4 | E114: ='Enter Points'!AA117 -> 36
A115: =RANK(E115,$E$8:$E$219,)+COUNTIF($E$8:E115,E115)-1 -> 81 | B115: ='Enter Points'!A118 -> O'Leary, Sean | C115: ='Enter Points'!P118 -> 24 | D115: ='Enter Points'!Z118 -> 10 | E115: ='Enter Points'!AA118 -> 34
A116: =RANK(E116,$E$8:$E$219,)+COUNTIF($E$8:E116,E116)-1 -> 125 | B116: ='Enter Points'!A119 -> Paschke, Tom | C116: ='Enter Points'!P119 -> 6 | D116: ='Enter Points'!Z119 -> 4 | E116: ='Enter Points'!AA119 -> 10
A117: =RANK(E117,$E$8:$E$219,)+COUNTIF($E$8:E117,E117)-1 -> 78 | B117: ='Enter Points'!A120 -> Phillips, Rick | C117: ='Enter Points'!P120 -> 32 | D117: ='Enter Points'!Z120 -> 4 | E117: ='Enter Points'!AA120 -> 36
A118: =RANK(E118,$E$8:$E$219,)+COUNTIF($E$8:E118,E118)-1 -> 42 | B118: ='Enter Points'!A121 -> Pierson, Ken | C118: ='Enter Points'!P121 -> 43 | D118: ='Enter Points'!Z121 -> 12 | E118: ='Enter Points'!AA121 -> 55
A119: =RANK(E119,$E$8:$E$219,)+COUNTIF($E$8:E119,E119)-1 -> 10 | B119: ='Enter Points'!A122 -> Podobinski, Jerry | C119: ='Enter Points'!P122 -> 69 | D119: ='Enter Points'!Z122 -> 10 | E119: ='Enter Points'!AA122 -> 79
A120: =RANK(E120,$E$8:$E$219,)+COUNTIF($E$8:E120,E120)-1 -> 99 | B120: ='Enter Points'!A123 -> Preese, Steve | C120: ='Enter Points'!P123 -> 20 | D120: ='Enter Points'!Z123 -> 4 | E120: ='Enter Points'!AA123 -> 24
A121: =RANK(E121,$E$8:$E$219,)+COUNTIF($E$8:E121,E121)-1 -> 117 | B121: ='Enter Points'!A124 -> Reipke, Bob | C121: ='Enter Points'!P124 -> 15 | D121: ='Enter Points'!Z124 -> 0 | E121: ='Enter Points'!AA124 -> 15
A122: =RANK(E122,$E$8:$E$219,)+COUNTIF($E$8:E122,E122)-1 -> 34 | B122: ='Enter Points'!A125 -> Rhode, Jason | C122: ='Enter Points'!P125 -> 48 | D122: ='Enter Points'!Z125 -> 10 | E122: ='Enter Points'!AA125 -> 58
A123: =RANK(E123,$E$8:$E$219,)+COUNTIF($E$8:E123,E123)-1 -> 35 | B123: ='Enter Points'!A126 -> Rhodes, Justin | C123: ='Enter Points'!P126 -> 52 | D123: ='Enter Points'!Z126 -> 6 | E123: ='Enter Points'!AA126 -> 58
... A219: =RANK(E219,$E$8:$E$219,)+COUNTIF($E$8:E219,E219)-1 -> 211 | B219: ='Enter Points'!A222 -> 0 | C219: ='Enter Points'!P222 -> 0 | D219: ='Enter Points'!Z222 -> 0 | E219: ='Enter Points'!AA222 -> 0
